BEGIN:VCALENDAR
VERSION:2.0
PRODID:-//ESSE Musicbar Winterthur//NONSGML kigkonsult.se iCalcreator 2.41.92//
CALSCALE:GREGORIAN
METHOD:PUBLISH
UID:65386338-3364-4539-b430-656161333534
X-WR-CALNAME:iCagenda
X-WR-CALDESC:Event Management Extension for Joomla!
X-WR-RELCALID:3E26604A-50F4-4449-8B3E-E4F4932D05B5
X-WR-TIMEZONE:Europe/Zurich
BEGIN:VTIMEZONE
TZID:Europe/Zurich
TZUNTIL:20271031T010000Z
BEGIN:STANDARD
TZNAME:CET
DTSTART:20251026T030000
TZOFFSETFROM:+0200
TZOFFSETTO:+0100
RDATE:20261025T030000
END:STANDARD
BEGIN:DAYLIGHT
TZNAME:CEST
DTSTART:20250330T020000
TZOFFSETFROM:+0100
TZOFFSETTO:+0200
RDATE:20260329T020000
RDATE:20270328T020000
END:DAYLIGHT
END:VTIMEZONE
BEGIN:VEVENT
UID:38303066-6162-4462-a464-613030623965
DTSTAMP:20260423T114436Z
CATEGORIES:Jazz&More
CLASS:PUBLIC
DESCRIPTION;ALTREP="CID:<FFFF__=0ABBE548DFE235B58f9e8a93d@coffeebean.com>":
 Erste Band:\nLg Bertie\nLg Bertie ist ein vierköpfiges Kollektiv bestehend
  aus Flurin (dr)\, Tjark&nbsp\;(git)\, Luca (voc) &amp\; Emanuel (b)\, die
  sich an der Musikhochschule Bern kennengelernt&nbsp\;haben. Zusammen durc
 hschreiten sie das Terrain zwischen freiem Jazz und&nbsp\;melodiösem Walze
 r.\nLuca Wüthrich - (Vocals) |&nbsp\;Tjark Cotrotzo - (Guitar) |&nbsp\;Ema
 nuel Bründler - (Bass) |&nbsp\;Flurin Kasper - (Drums)\n\nZweite Band:\nLe
 on Frei &amp\; Philippe Leuzinger – Plattentaufe\nLeon Frei und Philippe L
 euzinger sind zwei junge Jazzmusiker aus Winterthur und&nbsp\;studieren Ja
 zz an den Musikhochschulen in Basel und Luzern. Mit „On The Way To Sofia“&
 nbsp\;präsentieren sie ihr erstes gemeinsames Projekt. Die EP ist aus spon
 tanen Jams&nbsp\;entstanden und lebt von Offenheit\, Neugier und dem direk
 ten musikalischen Dialog&nbsp\;zwischen den beiden Musikern.\nDie fünf Stü
 cke wurden am Konservatorium Winterthur aufgenommen. Dabei spielte&nbsp\;L
 eon Frei sowohl Piano als auch Kontrabass. Für das Releasekonzert und die 
 CD-Taufe&nbsp\;werden die beiden von Rafael Trachsel am Klavier unterstütz
 t\, sodass die Musik nun&nbsp\;erstmals live in dieser Besetzung zu hören 
 ist.\nLeon Frei - (Bass) |&nbsp\;Philippe Leuzinger - (Drums) |&nbsp\;Rafa
 el Trachsel - (Keys)\n\n Es gibt kein pdf-Plugin\, es kann  die pdf-Datei 
 heruntergeladen werden. \n\nFlyer esse_pdf herunterladen
DTSTART:20260311T183000Z
DTEND:20260311T183000Z
GEO:00;0
LOCATION:
ORGANIZER:
SEQUENCE:1
SUMMARY:Doppelkonzert: Lg Bertie | Philippe & Flurin - Plattentaufe
TRANSP:OPAQUE
URL:https://www.esse-musicbar.ch/index.php/veranstaltungen/live-veranstalti
 ungen/2588-philippe-flurin/2026-03-11-19-30
END:VEVENT
END:VCALENDAR
